BEGIN:VCALENDAR
VERSION:2.0
PRODID:-//NADI Kampung Pulai Sebatang, Api-api - ECPv6.15.20//NONSGML v1.0//EN
CALSCALE:GREGORIAN
METHOD:PUBLISH
X-WR-CALNAME:NADI Kampung Pulai Sebatang, Api-api
X-ORIGINAL-URL:https://pulaisebatang.nadi.my
X-WR-CALDESC:Events for NADI Kampung Pulai Sebatang, Api-api
REFRESH-INTERVAL;VALUE=DURATION:PT1H
X-Robots-Tag:noindex
X-PUBLISHED-TTL:PT1H
BEGIN:VTIMEZONE
TZID:Asia/Kuala_Lumpur
BEGIN:STANDARD
TZOFFSETFROM:+0800
TZOFFSETTO:+0800
TZNAME:+08
DTSTART:20240101T000000
END:STANDARD
END:VTIMEZONE
BEGIN:VEVENT
DTSTART;VALUE=DATE:20250601
DTEND;VALUE=DATE:20250701
DTSTAMP:20260421T085233
CREATED:20250601T100303Z
LAST-MODIFIED:20250601T100303Z
UID:4028-1748736000-1751327999@pulaisebatang.nadi.my
SUMMARY:Promosi Keahlian NADI Pada Setiap Hujung Minggu
DESCRIPTION:
URL:https://pulaisebatang.nadi.my/event/promosi-keahlian-nadi-pada-setiap-hujung-minggu-9/
END:VEVENT
BEGIN:VEVENT
DTSTART;VALUE=DATE:20250603
DTEND;VALUE=DATE:20250607
DTSTAMP:20260421T085233
CREATED:20250601T100955Z
LAST-MODIFIED:20250601T100955Z
UID:4043-1748908800-1749254399@pulaisebatang.nadi.my
SUMMARY:Live Kelas Dilea Tingkatan 4 & 5 English Proficiency (Lesson 9)
DESCRIPTION:
URL:https://pulaisebatang.nadi.my/event/live-kelas-dilea-tingkatan-4-5-english-proficiency-lesson-9/
END:VEVENT
BEGIN:VEVENT
DTSTART;TZID=Asia/Kuala_Lumpur:20250603T103000
DTEND;TZID=Asia/Kuala_Lumpur:20250603T113000
DTSTAMP:20260421T085233
CREATED:20250601T101548Z
LAST-MODIFIED:20250601T101548Z
UID:4059-1748946600-1748950200@pulaisebatang.nadi.my
SUMMARY:Webinar Kesihatan : Kesejahteraan Kendiri
DESCRIPTION:
URL:https://pulaisebatang.nadi.my/event/webinar-kesihatan-kesejahteraan-kendiri/
END:VEVENT
BEGIN:VEVENT
DTSTART;TZID=Asia/Kuala_Lumpur:20250604T100000
DTEND;TZID=Asia/Kuala_Lumpur:20250604T110000
DTSTAMP:20260421T085233
CREATED:20250601T100402Z
LAST-MODIFIED:20250601T100402Z
UID:4030-1749031200-1749034800@pulaisebatang.nadi.my
SUMMARY:Webinar Kempen Internet Selamat – Ancaman Siber : Malware  (Sek Ren)
DESCRIPTION:
URL:https://pulaisebatang.nadi.my/event/webinar-kempen-internet-selamat-ancaman-siber-malware-sek-ren/
END:VEVENT
BEGIN:VEVENT
DTSTART;TZID=Asia/Kuala_Lumpur:20250604T110000
DTEND;TZID=Asia/Kuala_Lumpur:20250604T120000
DTSTAMP:20260421T085233
CREATED:20250601T100441Z
LAST-MODIFIED:20250601T100441Z
UID:4032-1749034800-1749038400@pulaisebatang.nadi.my
SUMMARY:Webinar Kempen Internet Selamat – Ancaman Siber : Laman Web Jahat (Sek Men)
DESCRIPTION:
URL:https://pulaisebatang.nadi.my/event/webinar-kempen-internet-selamat-ancaman-siber-laman-web-jahat-sek-men/
END:VEVENT
BEGIN:VEVENT
DTSTART;TZID=Asia/Kuala_Lumpur:20250606T103000
DTEND;TZID=Asia/Kuala_Lumpur:20250606T113000
DTSTAMP:20260421T085233
CREATED:20250601T101617Z
LAST-MODIFIED:20250601T101617Z
UID:4061-1749205800-1749209400@pulaisebatang.nadi.my
SUMMARY:Webinar Kesihatan : Kesejahteraan Kendiri
DESCRIPTION:
URL:https://pulaisebatang.nadi.my/event/webinar-kesihatan-kesejahteraan-kendiri-2/
END:VEVENT
BEGIN:VEVENT
DTSTART;VALUE=DATE:20250610
DTEND;VALUE=DATE:20250614
DTSTAMP:20260421T085233
CREATED:20250601T101043Z
LAST-MODIFIED:20250601T101043Z
UID:4046-1749513600-1749859199@pulaisebatang.nadi.my
SUMMARY:Live Kelas Dilea Tingkatan 4 & 5 English Proficiency (Lesson 10)
DESCRIPTION:
URL:https://pulaisebatang.nadi.my/event/live-kelas-dilea-tingkatan-4-5-english-proficiency-lesson-10/
END:VEVENT
BEGIN:VEVENT
DTSTART;TZID=Asia/Kuala_Lumpur:20250611T093000
DTEND;TZID=Asia/Kuala_Lumpur:20250611T103000
DTSTAMP:20260421T085233
CREATED:20250601T101404Z
LAST-MODIFIED:20250601T101404Z
UID:4055-1749634200-1749637800@pulaisebatang.nadi.my
SUMMARY:Kelas Mahir Pertanian Pintar
DESCRIPTION:
URL:https://pulaisebatang.nadi.my/event/kelas-mahir-pertanian-pintar-14/
END:VEVENT
BEGIN:VEVENT
DTSTART;TZID=Asia/Kuala_Lumpur:20250612T093000
DTEND;TZID=Asia/Kuala_Lumpur:20250612T113000
DTSTAMP:20260421T085233
CREATED:20250601T101222Z
LAST-MODIFIED:20250601T101222Z
UID:4050-1749720600-1749727800@pulaisebatang.nadi.my
SUMMARY:Kelas NADI Mahir Jahit
DESCRIPTION:
URL:https://pulaisebatang.nadi.my/event/kelas-nadi-mahir-jahit/
END:VEVENT
BEGIN:VEVENT
DTSTART;TZID=Asia/Kuala_Lumpur:20250614T093000
DTEND;TZID=Asia/Kuala_Lumpur:20250614T163000
DTSTAMP:20260421T085233
CREATED:20250601T100824Z
LAST-MODIFIED:20250601T100824Z
UID:4041-1749893400-1749918600@pulaisebatang.nadi.my
SUMMARY:Live Kelas Dilea Tingkatan 5 (Matematik\, B. Melayu\, Sejarah &  B. Inggeris)
DESCRIPTION:
URL:https://pulaisebatang.nadi.my/event/live-kelas-dilea-tingkatan-5-matematik-b-melayu-sejarah-b-inggeris/
END:VEVENT
BEGIN:VEVENT
DTSTART;TZID=Asia/Kuala_Lumpur:20250614T100000
DTEND;TZID=Asia/Kuala_Lumpur:20250614T120000
DTSTAMP:20260421T085233
CREATED:20250601T100547Z
LAST-MODIFIED:20250601T100547Z
UID:4035-1749895200-1749902400@pulaisebatang.nadi.my
SUMMARY:Tiny Techies (Sek Ren & Sek Men)
DESCRIPTION:
URL:https://pulaisebatang.nadi.my/event/tiny-techies-sek-ren-sek-men/
END:VEVENT
BEGIN:VEVENT
DTSTART;TZID=Asia/Kuala_Lumpur:20250614T110000
DTEND;TZID=Asia/Kuala_Lumpur:20250614T120000
DTSTAMP:20260421T085233
CREATED:20250601T101450Z
LAST-MODIFIED:20250601T101450Z
UID:4057-1749898800-1749902400@pulaisebatang.nadi.my
SUMMARY:Kelas Mahir Pertanian Pintar
DESCRIPTION:
URL:https://pulaisebatang.nadi.my/event/kelas-mahir-pertanian-pintar-15/
END:VEVENT
BEGIN:VEVENT
DTSTART;TZID=Asia/Kuala_Lumpur:20250619T093000
DTEND;TZID=Asia/Kuala_Lumpur:20250619T113000
DTSTAMP:20260421T085233
CREATED:20250601T101259Z
LAST-MODIFIED:20250601T101259Z
UID:4052-1750325400-1750332600@pulaisebatang.nadi.my
SUMMARY:Kelas NADI Mahir Jahit
DESCRIPTION:
URL:https://pulaisebatang.nadi.my/event/kelas-nadi-mahir-jahit-2/
END:VEVENT
BEGIN:VEVENT
DTSTART;TZID=Asia/Kuala_Lumpur:20250621T100000
DTEND;TZID=Asia/Kuala_Lumpur:20250621T120000
DTSTAMP:20260421T085233
CREATED:20250601T100616Z
LAST-MODIFIED:20250601T100616Z
UID:4037-1750500000-1750507200@pulaisebatang.nadi.my
SUMMARY:Tiny Techies (Sek Ren & Sek Men)
DESCRIPTION:
URL:https://pulaisebatang.nadi.my/event/tiny-techies-sek-ren-sek-men-2/
END:VEVENT
BEGIN:VEVENT
DTSTART;VALUE=DATE:20250623
DTEND;VALUE=DATE:20250627
DTSTAMP:20260421T085233
CREATED:20250601T101126Z
LAST-MODIFIED:20250601T101126Z
UID:4048-1750636800-1750982399@pulaisebatang.nadi.my
SUMMARY:Live Kelas Dilea Tingkatan 4 & 5 English Proficiency (Lesson 11)
DESCRIPTION:
URL:https://pulaisebatang.nadi.my/event/live-kelas-dilea-tingkatan-4-5-english-proficiency-lesson-11/
END:VEVENT
BEGIN:VEVENT
DTSTART;TZID=Asia/Kuala_Lumpur:20250628T100000
DTEND;TZID=Asia/Kuala_Lumpur:20250628T120000
DTSTAMP:20260421T085233
CREATED:20250601T100642Z
LAST-MODIFIED:20250601T100642Z
UID:4039-1751104800-1751112000@pulaisebatang.nadi.my
SUMMARY:Tiny Techies (Sek Ren & Sek Men)
DESCRIPTION:
URL:https://pulaisebatang.nadi.my/event/tiny-techies-sek-ren-sek-men-3/
END:VEVENT
END:VCALENDAR