BEGIN:VCALENDAR
VERSION:2.0
PRODID:-//NADI Kampung Pulai Sebatang, Api-api - ECPv6.15.20//NONSGML v1.0//EN
CALSCALE:GREGORIAN
METHOD:PUBLISH
X-WR-CALNAME:NADI Kampung Pulai Sebatang, Api-api
X-ORIGINAL-URL:https://pulaisebatang.nadi.my
X-WR-CALDESC:Events for NADI Kampung Pulai Sebatang, Api-api
REFRESH-INTERVAL;VALUE=DURATION:PT1H
X-Robots-Tag:noindex
X-PUBLISHED-TTL:PT1H
BEGIN:VTIMEZONE
TZID:Asia/Kuala_Lumpur
BEGIN:STANDARD
TZOFFSETFROM:+0800
TZOFFSETTO:+0800
TZNAME:+08
DTSTART:20240101T000000
END:STANDARD
END:VTIMEZONE
BEGIN:VEVENT
DTSTART;VALUE=DATE:20250501
DTEND;VALUE=DATE:20250601
DTSTAMP:20260422T055337
CREATED:20250506T033416Z
LAST-MODIFIED:20250506T033431Z
UID:3987-1746057600-1748735999@pulaisebatang.nadi.my
SUMMARY:Promosi Keahlian NADI
DESCRIPTION:
URL:https://pulaisebatang.nadi.my/event/promosi-keahlian-nadi/
END:VEVENT
BEGIN:VEVENT
DTSTART;TZID=Asia/Kuala_Lumpur:20250505T153000
DTEND;TZID=Asia/Kuala_Lumpur:20250505T163000
DTSTAMP:20260422T055337
CREATED:20250506T041206Z
LAST-MODIFIED:20250506T041512Z
UID:3992-1746459000-1746462600@pulaisebatang.nadi.my
SUMMARY:Live Kelas Dilea Tingkatan 4 (Matematik\, B. Melayu\, Sejarah &  B. Inggeris)
DESCRIPTION:
URL:https://pulaisebatang.nadi.my/event/live-kelas-dilea-tingkatan-4-matematik-b-melayu-sejarah-b-inggeris/
END:VEVENT
BEGIN:VEVENT
DTSTART;TZID=Asia/Kuala_Lumpur:20250506T103000
DTEND;TZID=Asia/Kuala_Lumpur:20250506T113000
DTSTAMP:20260422T055337
CREATED:20250506T040745Z
LAST-MODIFIED:20250506T040745Z
UID:3989-1746527400-1746531000@pulaisebatang.nadi.my
SUMMARY:Webinar FlourisHER "Mitos & Fakta Tentang Kesuburan: Jangan Mudah Percaya!"
DESCRIPTION:
URL:https://pulaisebatang.nadi.my/event/webinar-flourisher-mitos-fakta-tentang-kesuburan-jangan-mudah-percaya/
END:VEVENT
BEGIN:VEVENT
DTSTART;TZID=Asia/Kuala_Lumpur:20250506T153000
DTEND;TZID=Asia/Kuala_Lumpur:20250506T163000
DTSTAMP:20260422T055337
CREATED:20250506T041302Z
LAST-MODIFIED:20250506T041549Z
UID:3994-1746545400-1746549000@pulaisebatang.nadi.my
SUMMARY:Live Kelas Dilea Tingkatan 4 (Matematik\, B. Melayu\, Sejarah &  B. Inggeris)
DESCRIPTION:
URL:https://pulaisebatang.nadi.my/event/live-kelas-dilea-tingkatan-4-matematik-b-melayu-sejarah-b-inggeris-2/
END:VEVENT
BEGIN:VEVENT
DTSTART;TZID=Asia/Kuala_Lumpur:20250508T153000
DTEND;TZID=Asia/Kuala_Lumpur:20250508T163000
DTSTAMP:20260422T055337
CREATED:20250506T041341Z
LAST-MODIFIED:20250506T041341Z
UID:3996-1746718200-1746721800@pulaisebatang.nadi.my
SUMMARY:Live Kelas Dilea Tingkatan 4 (Matematik\, B. Melayu\, Sejarah &  B. Inggeris)
DESCRIPTION:
URL:https://pulaisebatang.nadi.my/event/live-kelas-dilea-tingkatan-4-matematik-b-melayu-sejarah-b-inggeris-3/
END:VEVENT
BEGIN:VEVENT
DTSTART;TZID=Asia/Kuala_Lumpur:20250509T153000
DTEND;TZID=Asia/Kuala_Lumpur:20250509T163000
DTSTAMP:20260422T055337
CREATED:20250506T041417Z
LAST-MODIFIED:20250506T041417Z
UID:3998-1746804600-1746808200@pulaisebatang.nadi.my
SUMMARY:Live Kelas Dilea Tingkatan 4 (Matematik\, B. Melayu\, Sejarah &  B. Inggeris)
DESCRIPTION:
URL:https://pulaisebatang.nadi.my/event/live-kelas-dilea-tingkatan-4-matematik-b-melayu-sejarah-b-inggeris-4/
END:VEVENT
BEGIN:VEVENT
DTSTART;TZID=Asia/Kuala_Lumpur:20250510T093000
DTEND;TZID=Asia/Kuala_Lumpur:20250510T163000
DTSTAMP:20260422T055337
CREATED:20250506T042009Z
LAST-MODIFIED:20250506T042009Z
UID:4001-1746869400-1746894600@pulaisebatang.nadi.my
SUMMARY:Live Kelas Dilea Tingkatan 4 & 5 English Proficiency (Lesson 6)
DESCRIPTION:
URL:https://pulaisebatang.nadi.my/event/live-kelas-dilea-tingkatan-4-5-english-proficiency-lesson-6/
END:VEVENT
BEGIN:VEVENT
DTSTART;TZID=Asia/Kuala_Lumpur:20250510T103000
DTEND;TZID=Asia/Kuala_Lumpur:20250510T113000
DTSTAMP:20260422T055337
CREATED:20250506T045516Z
LAST-MODIFIED:20250506T045516Z
UID:4003-1746873000-1746876600@pulaisebatang.nadi.my
SUMMARY:Webinar : Cybersecurity 101 : Perlindungan Siber Dan Ancaman Penggodam
DESCRIPTION:
URL:https://pulaisebatang.nadi.my/event/webinar-cybersecurity-101-perlindungan-siber-dan-ancaman-penggodam/
END:VEVENT
BEGIN:VEVENT
DTSTART;TZID=Asia/Kuala_Lumpur:20250515T093000
DTEND;TZID=Asia/Kuala_Lumpur:20250518T163000
DTSTAMP:20260422T055337
CREATED:20250506T045649Z
LAST-MODIFIED:20250506T045649Z
UID:4005-1747301400-1747585800@pulaisebatang.nadi.my
SUMMARY:Live Kelas Dilea Tingkatan 4 & 5 English Proficiency (Lesson 7)
DESCRIPTION:
URL:https://pulaisebatang.nadi.my/event/live-kelas-dilea-tingkatan-4-5-english-proficiency-lesson-7/
END:VEVENT
BEGIN:VEVENT
DTSTART;TZID=Asia/Kuala_Lumpur:20250522T093000
DTEND;TZID=Asia/Kuala_Lumpur:20250525T163000
DTSTAMP:20260422T055337
CREATED:20250506T045829Z
LAST-MODIFIED:20250506T045829Z
UID:4007-1747906200-1748190600@pulaisebatang.nadi.my
SUMMARY:Live Kelas Dilea Tingkatan 4 & 5 English Proficiency (Lesson 8)
DESCRIPTION:
URL:https://pulaisebatang.nadi.my/event/live-kelas-dilea-tingkatan-4-5-english-proficiency-lesson-8/
END:VEVENT
END:VCALENDAR