BEGIN:VCALENDAR
VERSION:2.0
PRODID:-//NADI Kampung Pulai Sebatang, Api-api - ECPv6.15.20//NONSGML v1.0//EN
CALSCALE:GREGORIAN
METHOD:PUBLISH
X-WR-CALNAME:NADI Kampung Pulai Sebatang, Api-api
X-ORIGINAL-URL:https://pulaisebatang.nadi.my
X-WR-CALDESC:Events for NADI Kampung Pulai Sebatang, Api-api
REFRESH-INTERVAL;VALUE=DURATION:PT1H
X-Robots-Tag:noindex
X-PUBLISHED-TTL:PT1H
BEGIN:VTIMEZONE
TZID:Asia/Kuala_Lumpur
BEGIN:STANDARD
TZOFFSETFROM:+0800
TZOFFSETTO:+0800
TZNAME:+08
DTSTART:20250101T000000
END:STANDARD
END:VTIMEZONE
BEGIN:VEVENT
DTSTART;VALUE=DATE:20260201
DTEND;VALUE=DATE:20260301
DTSTAMP:20260420T063320
CREATED:20260205T084727Z
LAST-MODIFIED:20260205T084727Z
UID:4611-1769904000-1772323199@pulaisebatang.nadi.my
SUMMARY:Promosi Keahlian Percuma
DESCRIPTION:
URL:https://pulaisebatang.nadi.my/event/promosi-keahlian-percuma/
END:VEVENT
BEGIN:VEVENT
DTSTART;TZID=Asia/Kuala_Lumpur:20260205T150000
DTEND;TZID=Asia/Kuala_Lumpur:20260205T170000
DTSTAMP:20260420T063320
CREATED:20260205T085452Z
LAST-MODIFIED:20260205T085452Z
UID:4617-1770303600-1770310800@pulaisebatang.nadi.my
SUMMARY:Open Tuition : Bahasa Melayu Tingkatan 1-5
DESCRIPTION:
URL:https://pulaisebatang.nadi.my/event/open-tuition-bahasa-melayu-tingkatan-1-5/
END:VEVENT
BEGIN:VEVENT
DTSTART;TZID=Asia/Kuala_Lumpur:20260207T100000
DTEND;TZID=Asia/Kuala_Lumpur:20260207T120000
DTSTAMP:20260420T063320
CREATED:20260205T085535Z
LAST-MODIFIED:20260205T085535Z
UID:4619-1770458400-1770465600@pulaisebatang.nadi.my
SUMMARY:Webinar :  KEMPEN INTERNET SELAMAT  Dunia Digital\, Tanggungjawab Nyata
DESCRIPTION:
URL:https://pulaisebatang.nadi.my/event/webinar-kempen-internet-selamat-dunia-digital-tanggungjawab-nyata/
END:VEVENT
BEGIN:VEVENT
DTSTART;TZID=Asia/Kuala_Lumpur:20260208T080000
DTEND;TZID=Asia/Kuala_Lumpur:20260208T170000
DTSTAMP:20260420T063320
CREATED:20260205T085728Z
LAST-MODIFIED:20260205T085728Z
UID:4621-1770537600-1770570000@pulaisebatang.nadi.my
SUMMARY:Dilea : Pendaftaran Video On Demand - Revision Video Sesi 27
DESCRIPTION:
URL:https://pulaisebatang.nadi.my/event/dilea-pendaftaran-video-on-demand-revision-video-sesi-27/
END:VEVENT
BEGIN:VEVENT
DTSTART;TZID=Asia/Kuala_Lumpur:20260212T091500
DTEND;TZID=Asia/Kuala_Lumpur:20260212T101500
DTSTAMP:20260420T063320
CREATED:20260212T020812Z
LAST-MODIFIED:20260212T020812Z
UID:4636-1770887700-1770891300@pulaisebatang.nadi.my
SUMMARY:OPEN TUITION : Sains (Tingkatan 1 & 2)
DESCRIPTION:
URL:https://pulaisebatang.nadi.my/event/open-tuition-sains-tingkatan-1-2/
END:VEVENT
BEGIN:VEVENT
DTSTART;TZID=Asia/Kuala_Lumpur:20260212T150000
DTEND;TZID=Asia/Kuala_Lumpur:20260212T163000
DTSTAMP:20260420T063320
CREATED:20260212T015632Z
LAST-MODIFIED:20260212T015632Z
UID:4633-1770908400-1770913800@pulaisebatang.nadi.my
SUMMARY:WEBINAR KESELAMATAN SIBER : Cara Kenal Pasti Fail Berbentuk Virus
DESCRIPTION:
URL:https://pulaisebatang.nadi.my/event/webinar-keselamatan-siber-cara-kenal-pasti-fail-berbentuk-virus/
END:VEVENT
BEGIN:VEVENT
DTSTART;TZID=Asia/Kuala_Lumpur:20260212T153000
DTEND;TZID=Asia/Kuala_Lumpur:20260212T163000
DTSTAMP:20260420T063320
CREATED:20260212T020946Z
LAST-MODIFIED:20260212T020946Z
UID:4638-1770910200-1770913800@pulaisebatang.nadi.my
SUMMARY:OPEN TUITION : Sains (Tingkatan 1 hingga 5)
DESCRIPTION:
URL:https://pulaisebatang.nadi.my/event/open-tuition-sains-tingkatan-1-hingga-5/
END:VEVENT
BEGIN:VEVENT
DTSTART;TZID=Asia/Kuala_Lumpur:20260212T153000
DTEND;TZID=Asia/Kuala_Lumpur:20260212T163000
DTSTAMP:20260420T063320
CREATED:20260212T021102Z
LAST-MODIFIED:20260212T021102Z
UID:4640-1770910200-1770913800@pulaisebatang.nadi.my
SUMMARY:OPEN TUITION : Pengajian AM (Tingkatan 6)
DESCRIPTION:
URL:https://pulaisebatang.nadi.my/event/open-tuition-pengajian-am-tingkatan-6/
END:VEVENT
BEGIN:VEVENT
DTSTART;TZID=Asia/Kuala_Lumpur:20260214T093000
DTEND;TZID=Asia/Kuala_Lumpur:20260215T173000
DTSTAMP:20260420T063320
CREATED:20260205T090214Z
LAST-MODIFIED:20260304T035117Z
UID:4623-1771061400-1771176600@pulaisebatang.nadi.my
SUMMARY:Saringan Kesihatan (Menwell) Di Nadi - Week 1- 4 (Februari 2026)
DESCRIPTION:
URL:https://pulaisebatang.nadi.my/event/saringan-kesihatan-menwell-di-nadi-week-1-4-februari-2026/
END:VEVENT
BEGIN:VEVENT
DTSTART;TZID=Asia/Kuala_Lumpur:20260214T093000
DTEND;TZID=Asia/Kuala_Lumpur:20260215T173000
DTSTAMP:20260420T063320
CREATED:20260205T091948Z
LAST-MODIFIED:20260304T035255Z
UID:4629-1771061400-1771176600@pulaisebatang.nadi.my
SUMMARY:Saringan Kesihatan (FlourisHER) Di Nadi - Week 1- 4 (Februari 2026)
DESCRIPTION:
URL:https://pulaisebatang.nadi.my/event/saringan-kesihatan-flourisher-di-nadi-week-1-4-februari-2026-2/
END:VEVENT
BEGIN:VEVENT
DTSTART;TZID=Asia/Kuala_Lumpur:20260214T093000
DTEND;TZID=Asia/Kuala_Lumpur:20260215T180000
DTSTAMP:20260420T063320
CREATED:20260205T090402Z
LAST-MODIFIED:20260304T035204Z
UID:4625-1771061400-1771178400@pulaisebatang.nadi.my
SUMMARY:Inisiatif Kerajaan Manfaat Madani – Minggu 1-4 (Februari 2026)
DESCRIPTION:
URL:https://pulaisebatang.nadi.my/event/saringan-kesihatan-flourisher-di-nadi-week-1-4-februari-2026/
END:VEVENT
BEGIN:VEVENT
DTSTART;TZID=Asia/Kuala_Lumpur:20260226T093000
DTEND;TZID=Asia/Kuala_Lumpur:20260226T113000
DTSTAMP:20260420T063320
CREATED:20260205T092053Z
LAST-MODIFIED:20260205T092053Z
UID:4631-1772098200-1772105400@pulaisebatang.nadi.my
SUMMARY:MAHIR : Mahir Pertanian Pintar & Mahir Masak
DESCRIPTION:
URL:https://pulaisebatang.nadi.my/event/mahir-mahir-pertanian-pintar-mahir-masak/
END:VEVENT
BEGIN:VEVENT
DTSTART;TZID=Asia/Kuala_Lumpur:20260305T100000
DTEND;TZID=Asia/Kuala_Lumpur:20260305T113000
DTSTAMP:20260420T063320
CREATED:20260304T034835Z
LAST-MODIFIED:20260304T034835Z
UID:4678-1772704800-1772710200@pulaisebatang.nadi.my
SUMMARY:NADIPRENEUR/EMPOWERHER​  LIVE WEBINAR : BUSINESS PLAN DEVELOPMENT
DESCRIPTION:
URL:https://pulaisebatang.nadi.my/event/nadipreneur-empowerher-live-webinar-business-plan-development/
END:VEVENT
BEGIN:VEVENT
DTSTART;VALUE=DATE:20260306
DTEND;VALUE=DATE:20260309
DTSTAMP:20260420T063320
CREATED:20260304T034441Z
LAST-MODIFIED:20260304T034441Z
UID:4676-1772755200-1773014399@pulaisebatang.nadi.my
SUMMARY:E-SPORT : Awareness Class
DESCRIPTION:
URL:https://pulaisebatang.nadi.my/event/e-sport-awareness-class-2/
END:VEVENT
BEGIN:VEVENT
DTSTART;TZID=Asia/Kuala_Lumpur:20260306T093000
DTEND;TZID=Asia/Kuala_Lumpur:20260306T110000
DTSTAMP:20260420T063320
CREATED:20260304T042726Z
LAST-MODIFIED:20260304T042726Z
UID:4682-1772789400-1772794800@pulaisebatang.nadi.my
SUMMARY:SLS MAHIR MASAK - PORTUGUESE EGG TART
DESCRIPTION:
URL:https://pulaisebatang.nadi.my/event/sls-mahir-masak-portuguese-egg-tart/
END:VEVENT
BEGIN:VEVENT
DTSTART;TZID=Asia/Kuala_Lumpur:20260308T140000
DTEND;TZID=Asia/Kuala_Lumpur:20260308T150000
DTSTAMP:20260420T063320
CREATED:20260304T045256Z
LAST-MODIFIED:20260304T045256Z
UID:4684-1772978400-1772982000@pulaisebatang.nadi.my
SUMMARY:IHYA RAMADAN: JOM MENGAJI @ NADI (KHATAM)
DESCRIPTION:
URL:https://pulaisebatang.nadi.my/event/ihya-ramadan-jom-mengaji-nadi-khatam/
END:VEVENT
BEGIN:VEVENT
DTSTART;TZID=Asia/Kuala_Lumpur:20260314T110000
DTEND;TZID=Asia/Kuala_Lumpur:20260314T123000
DTSTAMP:20260420T063320
CREATED:20260304T082942Z
LAST-MODIFIED:20260304T093943Z
UID:4686-1773486000-1773491400@pulaisebatang.nadi.my
SUMMARY:MAHIR FOTO : Tayangan & Bicara Karya
DESCRIPTION:
URL:https://pulaisebatang.nadi.my/event/sls-mahir-jahit/
END:VEVENT
BEGIN:VEVENT
DTSTART;VALUE=DATE:20260401
DTEND;VALUE=DATE:20260501
DTSTAMP:20260420T063320
CREATED:20260404T024729Z
LAST-MODIFIED:20260404T024729Z
UID:4716-1775001600-1777593599@pulaisebatang.nadi.my
SUMMARY:Promosi Keahlian PERCUMA
DESCRIPTION:
URL:https://pulaisebatang.nadi.my/event/promosi-keahlian-percuma-2/
END:VEVENT
BEGIN:VEVENT
DTSTART;TZID=Asia/Kuala_Lumpur:20260401T090000
DTEND;TZID=Asia/Kuala_Lumpur:20260430T170000
DTSTAMP:20260420T063320
CREATED:20260404T024913Z
LAST-MODIFIED:20260404T024913Z
UID:4718-1775034000-1777568400@pulaisebatang.nadi.my
SUMMARY:Webinar : NADI X Kesejehteraan Kendiri
DESCRIPTION:
URL:https://pulaisebatang.nadi.my/event/webinar-nadi-x-kesejehteraan-kendiri/
END:VEVENT
BEGIN:VEVENT
DTSTART;TZID=Asia/Kuala_Lumpur:20260406T153000
DTEND;TZID=Asia/Kuala_Lumpur:20260406T163000
DTSTAMP:20260420T063320
CREATED:20260404T031452Z
LAST-MODIFIED:20260404T031452Z
UID:4720-1775489400-1775493000@pulaisebatang.nadi.my
SUMMARY:Guidance Tuition : Tingkatan 4 (Matematik\, B. Melayu\, Sejarah\, B.Inggeris)
DESCRIPTION:
URL:https://pulaisebatang.nadi.my/event/guidance-tuition-tingkatan-4-matematik-b-melayu-sejarah-b-inggeris/
END:VEVENT
BEGIN:VEVENT
DTSTART;TZID=Asia/Kuala_Lumpur:20260407T153000
DTEND;TZID=Asia/Kuala_Lumpur:20260407T163000
DTSTAMP:20260420T063320
CREATED:20260404T032820Z
LAST-MODIFIED:20260404T032820Z
UID:4722-1775575800-1775579400@pulaisebatang.nadi.my
SUMMARY:Guidance Tuition : Tingkatan 4 (Matematik\, B. Melayu\, Sejarah\, B.Inggeris)
DESCRIPTION:
URL:https://pulaisebatang.nadi.my/event/guidance-tuition-tingkatan-4-matematik-b-melayu-sejarah-b-inggeris-2/
END:VEVENT
BEGIN:VEVENT
DTSTART;VALUE=DATE:20260417
DTEND;VALUE=DATE:20260420
DTSTAMP:20260420T063320
CREATED:20260417T043452Z
LAST-MODIFIED:20260417T043452Z
UID:4740-1776384000-1776643199@pulaisebatang.nadi.my
SUMMARY:E-SPORT : AWARENESS CLASS
DESCRIPTION:
URL:https://pulaisebatang.nadi.my/event/e-sport-awareness-class/
END:VEVENT
BEGIN:VEVENT
DTSTART;TZID=Asia/Kuala_Lumpur:20260418T103000
DTEND;TZID=Asia/Kuala_Lumpur:20260418T113000
DTSTAMP:20260420T063320
CREATED:20260417T042100Z
LAST-MODIFIED:20260417T043144Z
UID:4735-1776508200-1776511800@pulaisebatang.nadi.my
SUMMARY:Webinar Kesejahteraan Kendiri : Senaman Atas Kerusi - Workout Selamat Untuk BMI Tinggi & Sendi Lemah (Exercise)
DESCRIPTION:
URL:https://pulaisebatang.nadi.my/event/webinar-senaman-atas-kerusi-workout-selamat-untuk-bmi-tinggi-sendi-lemah-exercise/
END:VEVENT
BEGIN:VEVENT
DTSTART;TZID=Asia/Kuala_Lumpur:20260418T153000
DTEND;TZID=Asia/Kuala_Lumpur:20260418T163000
DTSTAMP:20260420T063320
CREATED:20260404T040604Z
LAST-MODIFIED:20260404T040604Z
UID:4724-1776526200-1776529800@pulaisebatang.nadi.my
SUMMARY:Guidance Tuition : Tingkatan 5 (Matematik\, B. Melayu\, Sejarah\, B.Inggeris)
DESCRIPTION:
URL:https://pulaisebatang.nadi.my/event/guidance-tuition-tingkatan-5-matematik-b-melayu-sejarah-b-inggeris/
END:VEVENT
BEGIN:VEVENT
DTSTART;TZID=Asia/Kuala_Lumpur:20260419T153000
DTEND;TZID=Asia/Kuala_Lumpur:20260419T163000
DTSTAMP:20260420T063320
CREATED:20260404T040627Z
LAST-MODIFIED:20260404T040627Z
UID:4726-1776612600-1776616200@pulaisebatang.nadi.my
SUMMARY:Guidance Tuition : Tingkatan 5 (Matematik\, B. Melayu\, Sejarah\, B.Inggeris)
DESCRIPTION:
URL:https://pulaisebatang.nadi.my/event/guidance-tuition-tingkatan-5-matematik-b-melayu-sejarah-b-inggeris-2/
END:VEVENT
BEGIN:VEVENT
DTSTART;TZID=Asia/Kuala_Lumpur:20260420T103000
DTEND;TZID=Asia/Kuala_Lumpur:20260420T113000
DTSTAMP:20260420T063320
CREATED:20260417T042932Z
LAST-MODIFIED:20260417T042932Z
UID:4737-1776681000-1776684600@pulaisebatang.nadi.my
SUMMARY:Webinar Kesejahteraan Kendiri : Badan Kurus Tapi Kolesterol Tinggi? (Shorts)
DESCRIPTION:
URL:https://pulaisebatang.nadi.my/event/webinar-kesejahteraan-kendiri-badan-kurus-tapi-kolesterol-tinggi-shorts/
END:VEVENT
END:VCALENDAR