BEGIN:VCALENDAR
VERSION:2.0
PRODID:-//NADI Kampung Pulai Sebatang, Api-api - ECPv6.15.20//NONSGML v1.0//EN
CALSCALE:GREGORIAN
METHOD:PUBLISH
X-WR-CALNAME:NADI Kampung Pulai Sebatang, Api-api
X-ORIGINAL-URL:https://pulaisebatang.nadi.my
X-WR-CALDESC:Events for NADI Kampung Pulai Sebatang, Api-api
REFRESH-INTERVAL;VALUE=DURATION:PT1H
X-Robots-Tag:noindex
X-PUBLISHED-TTL:PT1H
BEGIN:VTIMEZONE
TZID:Asia/Kuala_Lumpur
BEGIN:STANDARD
TZOFFSETFROM:+0800
TZOFFSETTO:+0800
TZNAME:+08
DTSTART:20250101T000000
END:STANDARD
END:VTIMEZONE
BEGIN:VEVENT
DTSTART;VALUE=DATE:20260101
DTEND;VALUE=DATE:20260201
DTSTAMP:20260420T063300
CREATED:20260108T083331Z
LAST-MODIFIED:20260108T083331Z
UID:4554-1767225600-1769903999@pulaisebatang.nadi.my
SUMMARY:Promosi Keahlian Percuma NADI Kg Pulai Sebatang
DESCRIPTION:
URL:https://pulaisebatang.nadi.my/event/promosi-keahlian-percuma-nadi-kg-pulai-sebatang/
END:VEVENT
BEGIN:VEVENT
DTSTART;TZID=Asia/Kuala_Lumpur:20260107T103000
DTEND;TZID=Asia/Kuala_Lumpur:20260107T123000
DTSTAMP:20260420T063300
CREATED:20260108T083442Z
LAST-MODIFIED:20260108T083442Z
UID:4556-1767781800-1767789000@pulaisebatang.nadi.my
SUMMARY:DILEA : Hari Kokurikulum\, VOD Revision Video
DESCRIPTION:
URL:https://pulaisebatang.nadi.my/event/dilea-hari-kokurikulum-vod-revision-video/
END:VEVENT
BEGIN:VEVENT
DTSTART;TZID=Asia/Kuala_Lumpur:20260108T100000
DTEND;TZID=Asia/Kuala_Lumpur:20260108T120000
DTSTAMP:20260420T063300
CREATED:20260108T083605Z
LAST-MODIFIED:20260108T083605Z
UID:4558-1767866400-1767873600@pulaisebatang.nadi.my
SUMMARY:NADIPRENEUR / EMPOWHER : Business Plan Development
DESCRIPTION:
URL:https://pulaisebatang.nadi.my/event/nadipreneur-empowher-business-plan-development/
END:VEVENT
BEGIN:VEVENT
DTSTART;TZID=Asia/Kuala_Lumpur:20260109T100000
DTEND;TZID=Asia/Kuala_Lumpur:20260109T120000
DTSTAMP:20260420T063300
CREATED:20260108T083716Z
LAST-MODIFIED:20260108T083716Z
UID:4560-1767952800-1767960000@pulaisebatang.nadi.my
SUMMARY:ESPORT : Awareness Class
DESCRIPTION:
URL:https://pulaisebatang.nadi.my/event/esport-awareness-class/
END:VEVENT
BEGIN:VEVENT
DTSTART;TZID=Asia/Kuala_Lumpur:20260109T100000
DTEND;TZID=Asia/Kuala_Lumpur:20260109T120000
DTSTAMP:20260420T063300
CREATED:20260108T083820Z
LAST-MODIFIED:20260108T083820Z
UID:4562-1767952800-1767960000@pulaisebatang.nadi.my
SUMMARY:DILEA : Guidance Tuition BM\, BI Form 5 & BI Form 4
DESCRIPTION:
URL:https://pulaisebatang.nadi.my/event/dilea-guidance-tuition-bm-bi-form-5-bi-form-4/
END:VEVENT
BEGIN:VEVENT
DTSTART;TZID=Asia/Kuala_Lumpur:20260109T150000
DTEND;TZID=Asia/Kuala_Lumpur:20260109T163000
DTSTAMP:20260420T063300
CREATED:20260108T083856Z
LAST-MODIFIED:20260108T083856Z
UID:4564-1767970800-1767976200@pulaisebatang.nadi.my
SUMMARY:MAHIR : Forum Mahir Bersama Komuniti
DESCRIPTION:
URL:https://pulaisebatang.nadi.my/event/mahir-forum-mahir-bersama-komuniti/
END:VEVENT
BEGIN:VEVENT
DTSTART;TZID=Asia/Kuala_Lumpur:20260110T100000
DTEND;TZID=Asia/Kuala_Lumpur:20260110T110000
DTSTAMP:20260420T063300
CREATED:20260108T084349Z
LAST-MODIFIED:20260108T084349Z
UID:4566-1768039200-1768042800@pulaisebatang.nadi.my
SUMMARY:WELLBEING : PHY-WELL : Team Dance
DESCRIPTION:
URL:https://pulaisebatang.nadi.my/event/wellbeing-phy-well-team-dance/
END:VEVENT
BEGIN:VEVENT
DTSTART;TZID=Asia/Kuala_Lumpur:20260110T110000
DTEND;TZID=Asia/Kuala_Lumpur:20260110T120000
DTSTAMP:20260420T063300
CREATED:20260108T084506Z
LAST-MODIFIED:20260108T084506Z
UID:4568-1768042800-1768046400@pulaisebatang.nadi.my
SUMMARY:KIDVENTURE Webinar : Digital Burnout & Kesihatan
DESCRIPTION:
URL:https://pulaisebatang.nadi.my/event/kidventure-webinar-digital-burnout-kesihatan/
END:VEVENT
BEGIN:VEVENT
DTSTART;TZID=Asia/Kuala_Lumpur:20260110T150000
DTEND;TZID=Asia/Kuala_Lumpur:20260110T160000
DTSTAMP:20260420T063300
CREATED:20260108T084549Z
LAST-MODIFIED:20260108T084549Z
UID:4570-1768057200-1768060800@pulaisebatang.nadi.my
SUMMARY:ESPORT : Awareness Class
DESCRIPTION:
URL:https://pulaisebatang.nadi.my/event/esport-awareness-class-2/
END:VEVENT
BEGIN:VEVENT
DTSTART;TZID=Asia/Kuala_Lumpur:20260111T093000
DTEND;TZID=Asia/Kuala_Lumpur:20260111T113000
DTSTAMP:20260420T063300
CREATED:20260108T084641Z
LAST-MODIFIED:20260108T084641Z
UID:4572-1768123800-1768131000@pulaisebatang.nadi.my
SUMMARY:NADIPRENUER / EMPOWHER : Business Plan Development
DESCRIPTION:
URL:https://pulaisebatang.nadi.my/event/nadiprenuer-empowher-business-plan-development/
END:VEVENT
BEGIN:VEVENT
DTSTART;TZID=Asia/Kuala_Lumpur:20260111T143000
DTEND;TZID=Asia/Kuala_Lumpur:20260111T153000
DTSTAMP:20260420T063300
CREATED:20260108T090441Z
LAST-MODIFIED:20260108T090441Z
UID:4586-1768141800-1768145400@pulaisebatang.nadi.my
SUMMARY:DILEA : Guidance Tuition BM\, BI Form 5
DESCRIPTION:
URL:https://pulaisebatang.nadi.my/event/dilea-guidance-tuition-bm-bi-form-5/
END:VEVENT
BEGIN:VEVENT
DTSTART;TZID=Asia/Kuala_Lumpur:20260112T103000
DTEND;TZID=Asia/Kuala_Lumpur:20260112T113000
DTSTAMP:20260420T063300
CREATED:20260108T084745Z
LAST-MODIFIED:20260108T084745Z
UID:4574-1768213800-1768217400@pulaisebatang.nadi.my
SUMMARY:MAHIR : Mahir Jahit & Pertanian Pintar
DESCRIPTION:
URL:https://pulaisebatang.nadi.my/event/mahir-mahir-jahit-pertanian-pintar/
END:VEVENT
BEGIN:VEVENT
DTSTART;TZID=Asia/Kuala_Lumpur:20260112T150000
DTEND;TZID=Asia/Kuala_Lumpur:20260112T160000
DTSTAMP:20260420T063300
CREATED:20260108T084812Z
LAST-MODIFIED:20260108T084812Z
UID:4576-1768230000-1768233600@pulaisebatang.nadi.my
SUMMARY:MAHIR : Mahir Jahit & Pertanian Pintar
DESCRIPTION:
URL:https://pulaisebatang.nadi.my/event/mahir-mahir-jahit-pertanian-pintar-2/
END:VEVENT
BEGIN:VEVENT
DTSTART;TZID=Asia/Kuala_Lumpur:20260119T100000
DTEND;TZID=Asia/Kuala_Lumpur:20260119T110000
DTSTAMP:20260420T063300
CREATED:20260108T084859Z
LAST-MODIFIED:20260108T084859Z
UID:4578-1768816800-1768820400@pulaisebatang.nadi.my
SUMMARY:MAHIR : Mahir Jahit & Pertanian Pintar
DESCRIPTION:
URL:https://pulaisebatang.nadi.my/event/mahir-mahir-jahit-pertanian-pintar-3/
END:VEVENT
BEGIN:VEVENT
DTSTART;TZID=Asia/Kuala_Lumpur:20260119T100000
DTEND;TZID=Asia/Kuala_Lumpur:20260119T110000
DTSTAMP:20260420T063300
CREATED:20260108T084930Z
LAST-MODIFIED:20260108T084930Z
UID:4580-1768816800-1768820400@pulaisebatang.nadi.my
SUMMARY:MAHIR : Mahir Jahit & Pertanian Pintar
DESCRIPTION:
URL:https://pulaisebatang.nadi.my/event/mahir-mahir-jahit-pertanian-pintar-4/
END:VEVENT
BEGIN:VEVENT
DTSTART;TZID=Asia/Kuala_Lumpur:20260119T150000
DTEND;TZID=Asia/Kuala_Lumpur:20260119T160000
DTSTAMP:20260420T063300
CREATED:20260108T084957Z
LAST-MODIFIED:20260108T084957Z
UID:4582-1768834800-1768838400@pulaisebatang.nadi.my
SUMMARY:MAHIR : Mahir Jahit & Pertanian Pintar
DESCRIPTION:
URL:https://pulaisebatang.nadi.my/event/mahir-mahir-jahit-pertanian-pintar-5/
END:VEVENT
BEGIN:VEVENT
DTSTART;TZID=Asia/Kuala_Lumpur:20260126T100000
DTEND;TZID=Asia/Kuala_Lumpur:20260126T110000
DTSTAMP:20260420T063300
CREATED:20260108T085033Z
LAST-MODIFIED:20260108T085033Z
UID:4584-1769421600-1769425200@pulaisebatang.nadi.my
SUMMARY:MAHIR : Mahir Jahit & Pertanian Pintar
DESCRIPTION:
URL:https://pulaisebatang.nadi.my/event/mahir-mahir-jahit-pertanian-pintar-6/
END:VEVENT
BEGIN:VEVENT
DTSTART;VALUE=DATE:20260201
DTEND;VALUE=DATE:20260301
DTSTAMP:20260420T063300
CREATED:20260205T084727Z
LAST-MODIFIED:20260205T084727Z
UID:4611-1769904000-1772323199@pulaisebatang.nadi.my
SUMMARY:Promosi Keahlian Percuma
DESCRIPTION:
URL:https://pulaisebatang.nadi.my/event/promosi-keahlian-percuma/
END:VEVENT
BEGIN:VEVENT
DTSTART;TZID=Asia/Kuala_Lumpur:20260203T100000
DTEND;TZID=Asia/Kuala_Lumpur:20260203T110000
DTSTAMP:20260420T063300
CREATED:20260205T085159Z
LAST-MODIFIED:20260205T085159Z
UID:4613-1770112800-1770116400@pulaisebatang.nadi.my
SUMMARY:Webinar : Makan Banyak Ke Sikit? Jom belajar cara kira makanan untuk turun berat
DESCRIPTION:
URL:https://pulaisebatang.nadi.my/event/webinar-makan-banyak-ke-sikit-jom-belajar-cara-kira-makanan-untuk-turun-berat/
END:VEVENT
BEGIN:VEVENT
DTSTART;TZID=Asia/Kuala_Lumpur:20260205T150000
DTEND;TZID=Asia/Kuala_Lumpur:20260205T170000
DTSTAMP:20260420T063300
CREATED:20260205T085452Z
LAST-MODIFIED:20260205T085452Z
UID:4617-1770303600-1770310800@pulaisebatang.nadi.my
SUMMARY:Open Tuition : Bahasa Melayu Tingkatan 1-5
DESCRIPTION:
URL:https://pulaisebatang.nadi.my/event/open-tuition-bahasa-melayu-tingkatan-1-5/
END:VEVENT
BEGIN:VEVENT
DTSTART;TZID=Asia/Kuala_Lumpur:20260207T100000
DTEND;TZID=Asia/Kuala_Lumpur:20260207T120000
DTSTAMP:20260420T063300
CREATED:20260205T085535Z
LAST-MODIFIED:20260205T085535Z
UID:4619-1770458400-1770465600@pulaisebatang.nadi.my
SUMMARY:Webinar :  KEMPEN INTERNET SELAMAT  Dunia Digital\, Tanggungjawab Nyata
DESCRIPTION:
URL:https://pulaisebatang.nadi.my/event/webinar-kempen-internet-selamat-dunia-digital-tanggungjawab-nyata/
END:VEVENT
BEGIN:VEVENT
DTSTART;TZID=Asia/Kuala_Lumpur:20260208T080000
DTEND;TZID=Asia/Kuala_Lumpur:20260208T170000
DTSTAMP:20260420T063300
CREATED:20260205T085728Z
LAST-MODIFIED:20260205T085728Z
UID:4621-1770537600-1770570000@pulaisebatang.nadi.my
SUMMARY:Dilea : Pendaftaran Video On Demand - Revision Video Sesi 27
DESCRIPTION:
URL:https://pulaisebatang.nadi.my/event/dilea-pendaftaran-video-on-demand-revision-video-sesi-27/
END:VEVENT
BEGIN:VEVENT
DTSTART;TZID=Asia/Kuala_Lumpur:20260212T091500
DTEND;TZID=Asia/Kuala_Lumpur:20260212T101500
DTSTAMP:20260420T063300
CREATED:20260212T020812Z
LAST-MODIFIED:20260212T020812Z
UID:4636-1770887700-1770891300@pulaisebatang.nadi.my
SUMMARY:OPEN TUITION : Sains (Tingkatan 1 & 2)
DESCRIPTION:
URL:https://pulaisebatang.nadi.my/event/open-tuition-sains-tingkatan-1-2/
END:VEVENT
BEGIN:VEVENT
DTSTART;TZID=Asia/Kuala_Lumpur:20260212T150000
DTEND;TZID=Asia/Kuala_Lumpur:20260212T163000
DTSTAMP:20260420T063300
CREATED:20260212T015632Z
LAST-MODIFIED:20260212T015632Z
UID:4633-1770908400-1770913800@pulaisebatang.nadi.my
SUMMARY:WEBINAR KESELAMATAN SIBER : Cara Kenal Pasti Fail Berbentuk Virus
DESCRIPTION:
URL:https://pulaisebatang.nadi.my/event/webinar-keselamatan-siber-cara-kenal-pasti-fail-berbentuk-virus/
END:VEVENT
BEGIN:VEVENT
DTSTART;TZID=Asia/Kuala_Lumpur:20260212T153000
DTEND;TZID=Asia/Kuala_Lumpur:20260212T163000
DTSTAMP:20260420T063300
CREATED:20260212T020946Z
LAST-MODIFIED:20260212T020946Z
UID:4638-1770910200-1770913800@pulaisebatang.nadi.my
SUMMARY:OPEN TUITION : Sains (Tingkatan 1 hingga 5)
DESCRIPTION:
URL:https://pulaisebatang.nadi.my/event/open-tuition-sains-tingkatan-1-hingga-5/
END:VEVENT
BEGIN:VEVENT
DTSTART;TZID=Asia/Kuala_Lumpur:20260212T153000
DTEND;TZID=Asia/Kuala_Lumpur:20260212T163000
DTSTAMP:20260420T063300
CREATED:20260212T021102Z
LAST-MODIFIED:20260212T021102Z
UID:4640-1770910200-1770913800@pulaisebatang.nadi.my
SUMMARY:OPEN TUITION : Pengajian AM (Tingkatan 6)
DESCRIPTION:
URL:https://pulaisebatang.nadi.my/event/open-tuition-pengajian-am-tingkatan-6/
END:VEVENT
BEGIN:VEVENT
DTSTART;TZID=Asia/Kuala_Lumpur:20260214T093000
DTEND;TZID=Asia/Kuala_Lumpur:20260215T173000
DTSTAMP:20260420T063300
CREATED:20260205T090214Z
LAST-MODIFIED:20260304T035117Z
UID:4623-1771061400-1771176600@pulaisebatang.nadi.my
SUMMARY:Saringan Kesihatan (Menwell) Di Nadi - Week 1- 4 (Februari 2026)
DESCRIPTION:
URL:https://pulaisebatang.nadi.my/event/saringan-kesihatan-menwell-di-nadi-week-1-4-februari-2026/
END:VEVENT
BEGIN:VEVENT
DTSTART;TZID=Asia/Kuala_Lumpur:20260214T093000
DTEND;TZID=Asia/Kuala_Lumpur:20260215T173000
DTSTAMP:20260420T063300
CREATED:20260205T091948Z
LAST-MODIFIED:20260304T035255Z
UID:4629-1771061400-1771176600@pulaisebatang.nadi.my
SUMMARY:Saringan Kesihatan (FlourisHER) Di Nadi - Week 1- 4 (Februari 2026)
DESCRIPTION:
URL:https://pulaisebatang.nadi.my/event/saringan-kesihatan-flourisher-di-nadi-week-1-4-februari-2026-2/
END:VEVENT
BEGIN:VEVENT
DTSTART;TZID=Asia/Kuala_Lumpur:20260214T093000
DTEND;TZID=Asia/Kuala_Lumpur:20260215T180000
DTSTAMP:20260420T063300
CREATED:20260205T090402Z
LAST-MODIFIED:20260304T035204Z
UID:4625-1771061400-1771178400@pulaisebatang.nadi.my
SUMMARY:Inisiatif Kerajaan Manfaat Madani – Minggu 1-4 (Februari 2026)
DESCRIPTION:
URL:https://pulaisebatang.nadi.my/event/saringan-kesihatan-flourisher-di-nadi-week-1-4-februari-2026/
END:VEVENT
BEGIN:VEVENT
DTSTART;TZID=Asia/Kuala_Lumpur:20260226T093000
DTEND;TZID=Asia/Kuala_Lumpur:20260226T113000
DTSTAMP:20260420T063300
CREATED:20260205T092053Z
LAST-MODIFIED:20260205T092053Z
UID:4631-1772098200-1772105400@pulaisebatang.nadi.my
SUMMARY:MAHIR : Mahir Pertanian Pintar & Mahir Masak
DESCRIPTION:
URL:https://pulaisebatang.nadi.my/event/mahir-mahir-pertanian-pintar-mahir-masak/
END:VEVENT
END:VCALENDAR