BEGIN:VCALENDAR
VERSION:2.0
PRODID:-//NADI Kampung Pulai Sebatang, Api-api - ECPv6.15.20//NONSGML v1.0//EN
CALSCALE:GREGORIAN
METHOD:PUBLISH
X-WR-CALNAME:NADI Kampung Pulai Sebatang, Api-api
X-ORIGINAL-URL:https://pulaisebatang.nadi.my
X-WR-CALDESC:Events for NADI Kampung Pulai Sebatang, Api-api
REFRESH-INTERVAL;VALUE=DURATION:PT1H
X-Robots-Tag:noindex
X-PUBLISHED-TTL:PT1H
BEGIN:VTIMEZONE
TZID:Asia/Kuala_Lumpur
BEGIN:STANDARD
TZOFFSETFROM:+0800
TZOFFSETTO:+0800
TZNAME:+08
DTSTART:20240101T000000
END:STANDARD
END:VTIMEZONE
BEGIN:VEVENT
DTSTART;TZID=Asia/Kuala_Lumpur:20251011T100000
DTEND;TZID=Asia/Kuala_Lumpur:20251011T110000
DTSTAMP:20260420T061848
CREATED:20251001T094118Z
LAST-MODIFIED:20251001T094431Z
UID:4393-1760176800-1760180400@pulaisebatang.nadi.my
SUMMARY:Kidventure - Cohot 6 : Webinar Pelan Perniagaan Pertama Saya
DESCRIPTION:
URL:https://pulaisebatang.nadi.my/event/kidventure-webinar-pelan-perniagaan-pertama-saya/
END:VEVENT
BEGIN:VEVENT
DTSTART;TZID=Asia/Kuala_Lumpur:20251011T100000
DTEND;TZID=Asia/Kuala_Lumpur:20251011T110000
DTSTAMP:20260420T061848
CREATED:20251004T095631Z
LAST-MODIFIED:20251004T095631Z
UID:4419-1760176800-1760180400@pulaisebatang.nadi.my
SUMMARY:Bengkel Mahir SUMO ROBOT (Sek Ren)
DESCRIPTION:
URL:https://pulaisebatang.nadi.my/event/bengkel-mahir-sumo-robot-sek-ren/
END:VEVENT
BEGIN:VEVENT
DTSTART;TZID=Asia/Kuala_Lumpur:20251011T113000
DTEND;TZID=Asia/Kuala_Lumpur:20251011T123000
DTSTAMP:20260420T061848
CREATED:20251004T095737Z
LAST-MODIFIED:20251004T095737Z
UID:4421-1760182200-1760185800@pulaisebatang.nadi.my
SUMMARY:Bengkel Mahir IoT INOVASI (Sek Men)
DESCRIPTION:
URL:https://pulaisebatang.nadi.my/event/bengkel-mahir-iot-inovasi-sek-men/
END:VEVENT
END:VCALENDAR