BEGIN:VCALENDAR
VERSION:2.0
PRODID:-//NADI Kampung Pulai Sebatang, Api-api - ECPv6.15.20//NONSGML v1.0//EN
CALSCALE:GREGORIAN
METHOD:PUBLISH
X-ORIGINAL-URL:https://pulaisebatang.nadi.my
X-WR-CALDESC:Events for NADI Kampung Pulai Sebatang, Api-api
REFRESH-INTERVAL;VALUE=DURATION:PT1H
X-Robots-Tag:noindex
X-PUBLISHED-TTL:PT1H
BEGIN:VTIMEZONE
TZID:Asia/Kuala_Lumpur
BEGIN:STANDARD
TZOFFSETFROM:+0800
TZOFFSETTO:+0800
TZNAME:+08
DTSTART:20240101T000000
END:STANDARD
END:VTIMEZONE
BEGIN:VEVENT
DTSTART;TZID=Asia/Kuala_Lumpur:20251001T093000
DTEND;TZID=Asia/Kuala_Lumpur:20251001T113000
DTSTAMP:20260420T065853
CREATED:20251001T092759Z
LAST-MODIFIED:20251001T092759Z
UID:4379-1759311000-1759318200@pulaisebatang.nadi.my
SUMMARY:Kelas Mahir Masak
DESCRIPTION:
URL:https://pulaisebatang.nadi.my/event/kelas-mahir-masak/
END:VEVENT
BEGIN:VEVENT
DTSTART;TZID=Asia/Kuala_Lumpur:20251001T153000
DTEND;TZID=Asia/Kuala_Lumpur:20251001T163000
DTSTAMP:20260420T065853
CREATED:20251001T092842Z
LAST-MODIFIED:20251001T092842Z
UID:4381-1759332600-1759336200@pulaisebatang.nadi.my
SUMMARY:Kelas Mahir Jahit
DESCRIPTION:
URL:https://pulaisebatang.nadi.my/event/kelas-mahir-jahit-5/
END:VEVENT
END:VCALENDAR