BEGIN:VCALENDAR
VERSION:2.0
PRODID:-//NADI Kampung Pulai Sebatang, Api-api - ECPv6.15.20//NONSGML v1.0//EN
CALSCALE:GREGORIAN
METHOD:PUBLISH
X-WR-CALNAME:NADI Kampung Pulai Sebatang, Api-api
X-ORIGINAL-URL:https://pulaisebatang.nadi.my
X-WR-CALDESC:Events for NADI Kampung Pulai Sebatang, Api-api
REFRESH-INTERVAL;VALUE=DURATION:PT1H
X-Robots-Tag:noindex
X-PUBLISHED-TTL:PT1H
BEGIN:VTIMEZONE
TZID:Asia/Kuala_Lumpur
BEGIN:STANDARD
TZOFFSETFROM:+0800
TZOFFSETTO:+0800
TZNAME:+08
DTSTART:20240101T000000
END:STANDARD
END:VTIMEZONE
BEGIN:VEVENT
DTSTART;TZID=Asia/Kuala_Lumpur:20250918T100000
DTEND;TZID=Asia/Kuala_Lumpur:20250918T120000
DTSTAMP:20260421T000201
CREATED:20250903T043051Z
LAST-MODIFIED:20250903T043051Z
UID:4297-1758189600-1758196800@pulaisebatang.nadi.my
SUMMARY:CYBERSECURITY - Webinar
DESCRIPTION:
URL:https://pulaisebatang.nadi.my/event/cybersecurity-webinar/
END:VEVENT
BEGIN:VEVENT
DTSTART;TZID=Asia/Kuala_Lumpur:20250918T150000
DTEND;TZID=Asia/Kuala_Lumpur:20250918T163000
DTSTAMP:20260421T000201
CREATED:20250903T085437Z
LAST-MODIFIED:20250903T085437Z
UID:4300-1758207600-1758213000@pulaisebatang.nadi.my
SUMMARY:CYBERSECURITY - Webinar
DESCRIPTION:
URL:https://pulaisebatang.nadi.my/event/cybersecurity-webinar-2/
END:VEVENT
END:VCALENDAR