BEGIN:VCALENDAR
VERSION:2.0
PRODID:-//NADI Kampung Pulai Sebatang, Api-api - ECPv6.15.20//NONSGML v1.0//EN
CALSCALE:GREGORIAN
METHOD:PUBLISH
X-WR-CALNAME:NADI Kampung Pulai Sebatang, Api-api
X-ORIGINAL-URL:https://pulaisebatang.nadi.my
X-WR-CALDESC:Events for NADI Kampung Pulai Sebatang, Api-api
REFRESH-INTERVAL;VALUE=DURATION:PT1H
X-Robots-Tag:noindex
X-PUBLISHED-TTL:PT1H
BEGIN:VTIMEZONE
TZID:Asia/Kuala_Lumpur
BEGIN:STANDARD
TZOFFSETFROM:+0800
TZOFFSETTO:+0800
TZNAME:+08
DTSTART:20240101T000000
END:STANDARD
END:VTIMEZONE
BEGIN:VEVENT
DTSTART;TZID=Asia/Kuala_Lumpur:20250827T093000
DTEND;TZID=Asia/Kuala_Lumpur:20250827T103000
DTSTAMP:20260421T030638
CREATED:20250803T153321Z
LAST-MODIFIED:20250803T153321Z
UID:4224-1756287000-1756290600@pulaisebatang.nadi.my
SUMMARY:Kelas Mahir Pertanian
DESCRIPTION:
URL:https://pulaisebatang.nadi.my/event/kelas-mahir-pertanian-5/
END:VEVENT
BEGIN:VEVENT
DTSTART;TZID=Asia/Kuala_Lumpur:20250827T153000
DTEND;TZID=Asia/Kuala_Lumpur:20250827T163000
DTSTAMP:20260421T030638
CREATED:20250803T153019Z
LAST-MODIFIED:20250803T153019Z
UID:4215-1756308600-1756312200@pulaisebatang.nadi.my
SUMMARY:Kelas Mahir Jahit
DESCRIPTION:
URL:https://pulaisebatang.nadi.my/event/kelas-mahir-jahit-4/
END:VEVENT
END:VCALENDAR