BEGIN:VCALENDAR
VERSION:2.0
PRODID:-//NADI Kampung Pulai Sebatang, Api-api - ECPv6.15.20//NONSGML v1.0//EN
CALSCALE:GREGORIAN
METHOD:PUBLISH
X-WR-CALNAME:NADI Kampung Pulai Sebatang, Api-api
X-ORIGINAL-URL:https://pulaisebatang.nadi.my
X-WR-CALDESC:Events for NADI Kampung Pulai Sebatang, Api-api
REFRESH-INTERVAL;VALUE=DURATION:PT1H
X-Robots-Tag:noindex
X-PUBLISHED-TTL:PT1H
BEGIN:VTIMEZONE
TZID:Asia/Kuala_Lumpur
BEGIN:STANDARD
TZOFFSETFROM:+0800
TZOFFSETTO:+0800
TZNAME:+08
DTSTART:20240101T000000
END:STANDARD
END:VTIMEZONE
BEGIN:VEVENT
DTSTART;TZID=Asia/Kuala_Lumpur:20250803T153000
DTEND;TZID=Asia/Kuala_Lumpur:20250803T163000
DTSTAMP:20260422T044604
CREATED:20250803T155821Z
LAST-MODIFIED:20250803T155821Z
UID:4232-1754235000-1754238600@pulaisebatang.nadi.my
SUMMARY:Dilea Live Class - Bahasa Inggeris
DESCRIPTION:
URL:https://pulaisebatang.nadi.my/event/dilea-live-class-bahasa-inggeris/
END:VEVENT
END:VCALENDAR