BEGIN:VCALENDAR
VERSION:2.0
PRODID:-//NADI Kampung Pulai Sebatang, Api-api - ECPv6.15.20//NONSGML v1.0//EN
CALSCALE:GREGORIAN
METHOD:PUBLISH
X-WR-CALNAME:NADI Kampung Pulai Sebatang, Api-api
X-ORIGINAL-URL:https://pulaisebatang.nadi.my
X-WR-CALDESC:Events for NADI Kampung Pulai Sebatang, Api-api
REFRESH-INTERVAL;VALUE=DURATION:PT1H
X-Robots-Tag:noindex
X-PUBLISHED-TTL:PT1H
BEGIN:VTIMEZONE
TZID:Asia/Kuala_Lumpur
BEGIN:STANDARD
TZOFFSETFROM:+0800
TZOFFSETTO:+0800
TZNAME:+08
DTSTART:20240101T000000
END:STANDARD
END:VTIMEZONE
BEGIN:VEVENT
DTSTART;TZID=Asia/Kuala_Lumpur:20250221T093000
DTEND;TZID=Asia/Kuala_Lumpur:20250221T103000
DTSTAMP:20260426T013041
CREATED:20250204T093152Z
LAST-MODIFIED:20250204T093152Z
UID:3763-1740130200-1740133800@pulaisebatang.nadi.my
SUMMARY:Kelas Mahir Pertanian Pintar
DESCRIPTION:
URL:https://pulaisebatang.nadi.my/event/kelas-mahir-pertanian-pintar-6/
END:VEVENT
BEGIN:VEVENT
DTSTART;TZID=Asia/Kuala_Lumpur:20250221T093000
DTEND;TZID=Asia/Kuala_Lumpur:20250222T103000
DTSTAMP:20260426T013041
CREATED:20250204T091614Z
LAST-MODIFIED:20250204T091614Z
UID:3721-1740130200-1740220200@pulaisebatang.nadi.my
SUMMARY:Kelas NADI Mahir Masak
DESCRIPTION:
URL:https://pulaisebatang.nadi.my/event/kelas-nadi-mahir-masak-6/
END:VEVENT
END:VCALENDAR