BEGIN:VCALENDAR
VERSION:2.0
PRODID:-//NADI Kampung Pulai Sebatang, Api-api - ECPv6.15.20//NONSGML v1.0//EN
CALSCALE:GREGORIAN
METHOD:PUBLISH
X-WR-CALNAME:NADI Kampung Pulai Sebatang, Api-api
X-ORIGINAL-URL:https://pulaisebatang.nadi.my
X-WR-CALDESC:Events for NADI Kampung Pulai Sebatang, Api-api
REFRESH-INTERVAL;VALUE=DURATION:PT1H
X-Robots-Tag:noindex
X-PUBLISHED-TTL:PT1H
BEGIN:VTIMEZONE
TZID:Asia/Kuala_Lumpur
BEGIN:STANDARD
TZOFFSETFROM:+0800
TZOFFSETTO:+0800
TZNAME:+08
DTSTART:20240101T000000
END:STANDARD
END:VTIMEZONE
BEGIN:VEVENT
DTSTART;TZID=Asia/Kuala_Lumpur:20250214T093000
DTEND;TZID=Asia/Kuala_Lumpur:20250214T103000
DTSTAMP:20260425T011738
CREATED:20250204T093010Z
LAST-MODIFIED:20250204T093010Z
UID:3759-1739525400-1739529000@pulaisebatang.nadi.my
SUMMARY:Kelas Mahir Pertanian Pintar
DESCRIPTION:
URL:https://pulaisebatang.nadi.my/event/kelas-mahir-pertanian-pintar-4/
END:VEVENT
BEGIN:VEVENT
DTSTART;TZID=Asia/Kuala_Lumpur:20250214T093000
DTEND;TZID=Asia/Kuala_Lumpur:20250215T103000
DTSTAMP:20260425T011738
CREATED:20250204T082401Z
LAST-MODIFIED:20250204T091530Z
UID:3719-1739525400-1739615400@pulaisebatang.nadi.my
SUMMARY:Kelas NADI Mahir Masak
DESCRIPTION:
URL:https://pulaisebatang.nadi.my/event/kelas-nadi-mahir-masak-5/
END:VEVENT
BEGIN:VEVENT
DTSTART;TZID=Asia/Kuala_Lumpur:20250214T100000
DTEND;TZID=Asia/Kuala_Lumpur:20250214T113000
DTSTAMP:20260425T011738
CREATED:20250204T091825Z
LAST-MODIFIED:20250204T091825Z
UID:3727-1739527200-1739532600@pulaisebatang.nadi.my
SUMMARY:Program Webinar Nadi X Cybersecurity Bertajuk Laluan Pembelajaran Untuk Kerjaya Dalam Cybersecurity
DESCRIPTION:
URL:https://pulaisebatang.nadi.my/event/program-webinar-nadi-x-cybersecurity-bertajuk-laluan-pembelajaran-untuk-kerjaya-dalam-cybersecurity-2/
END:VEVENT
END:VCALENDAR